BEGIN:VCALENDAR
VERSION:2.0
PRODID:-//Aleksandra Komasz Ayurveda - ECPv6.15.20//NONSGML v1.0//EN
CALSCALE:GREGORIAN
METHOD:PUBLISH
X-WR-CALNAME:Aleksandra Komasz Ayurveda
X-ORIGINAL-URL:https://ayurvedska-medicina.si
X-WR-CALDESC:Dogodki za Aleksandra Komasz Ayurveda
REFRESH-INTERVAL;VALUE=DURATION:PT1H
X-Robots-Tag:noindex
X-PUBLISHED-TTL:PT1H
BEGIN:VTIMEZONE
TZID:Europe/Ljubljana
BEGIN:DAYLIGHT
TZOFFSETFROM:+0100
TZOFFSETTO:+0200
TZNAME:CEST
DTSTART:20240331T010000
END:DAYLIGHT
BEGIN:STANDARD
TZOFFSETFROM:+0200
TZOFFSETTO:+0100
TZNAME:CET
DTSTART:20241027T010000
END:STANDARD
BEGIN:DAYLIGHT
TZOFFSETFROM:+0100
TZOFFSETTO:+0200
TZNAME:CEST
DTSTART:20250330T010000
END:DAYLIGHT
BEGIN:STANDARD
TZOFFSETFROM:+0200
TZOFFSETTO:+0100
TZNAME:CET
DTSTART:20251026T010000
END:STANDARD
BEGIN:DAYLIGHT
TZOFFSETFROM:+0100
TZOFFSETTO:+0200
TZNAME:CEST
DTSTART:20260329T010000
END:DAYLIGHT
BEGIN:STANDARD
TZOFFSETFROM:+0200
TZOFFSETTO:+0100
TZNAME:CET
DTSTART:20261025T010000
END:STANDARD
BEGIN:DAYLIGHT
TZOFFSETFROM:+0100
TZOFFSETTO:+0200
TZNAME:CEST
DTSTART:20270328T010000
END:DAYLIGHT
BEGIN:STANDARD
TZOFFSETFROM:+0200
TZOFFSETTO:+0100
TZNAME:CET
DTSTART:20271031T010000
END:STANDARD
END:VTIMEZONE
BEGIN:VEVENT
DTSTART;TZID=Europe/Ljubljana:20260214T090000
DTEND;TZID=Europe/Ljubljana:20260214T120000
DTSTAMP:20260420T152840
CREATED:20260107T100658Z
LAST-MODIFIED:20260204T125620Z
UID:13636-1771059600-1771070400@ayurvedska-medicina.si
SUMMARY:Valentinov jutranji ritual Self Care Yoga in Brunch
DESCRIPTION:Umiri um. Poveži se. Nahrani telo.\n📅 14. 2. 2026 | Ljubljana \nValentinov jutranji ritual Self Care Yoga in Brunch je povabilo k počasnemu začetku dneva\, namenjenemu umiritvi\, prisotnosti in skrbi zase. Dogodek povezuje nežno jutranjo jogo in zavesten brunch v sproščenem okolju. \nJutro se začne z vodeno prakso joge v prostorih Aleksandra Komasz Ayurveda klinike\, kjer se skozi gib\, dih in zavedanje ustvarja prostor za umiritev telesa in misli. Praksa je primerna za vse ravni izkušenj in usmerjena v občutek ravnovesja\, mehkobe in notranje stabilnosti. \nPo jogi sledi brunch v bistroju Gaudi & Naan\, kjer udeležence pričaka skrbno pripravljena rastlinska ponudba\, zasnovana kot podpora telesu in nežno razvajanje čutov. Brunch je namenjen umirjenemu druženju\, okusu in občutku povezanosti s seboj in drugimi. \nDogodek poteka v okviru LUV festa\, festivala Ljubezni\, Umetnosti in Vandranja. \nŠtevilo mest na jogi je omejeno na 8 oseb – rezervacija je obvezna. \nPrijave: tadeja@ayurvedska-medicina.si ali na 041 326 311 \n\n🧘‍♀️ Joga v Ajurvedski kliniki (intimna skupina)\nPrvi del dogodka poteka v Ajurvedski kliniki Aleksandra Komasz\, v mirnem in varnem prostoru\, kjer lahko sprejmemo največ 8 udeležencev. Prav majhna skupina omogoča bolj osebno\, poglobljeno izkušnjo. \n \nJoga praksa je: \n– nežna \n– primerna tudi za začetnike \n– usmerjena v dih\, počasnost in zaznavanje telesa \nPoudarek ni na popolni izvedbi položajev\, temveč na umirjanju živčnega sistema\, sproščanju napetosti in ustvarjanju občutka notranjega prostora. To je praksa\, ki te ne izčrpa\, ampak te napolni. \nTrajanje joge je približno 60 minut. \n\n🚶‍♀️ Zavesten prehod\nČas\, da se telo in um integrirata\, preden nadaljujemo v drugi del dogodka. Ta prehod je pomemben del izkušnje\, saj omogoča\, da se mir\, ustvarjen na blazini\, prenese tudi v druženje. \n\n🍽️ Brunch v  Gaudi & Naan\n \nDrugi del dogodka poteka v restavraciji Gaudi & Naan\, kjer se skupina zbere ob toplem\, sezonskem brunchu. Hrana je izbrana \n z mislijo\, da podpira prebavo\, energijo in občutek lahkotnosti. \nBrunch ni hiter obrok\, temveč čas za umirjeno druženje\, \npogovor in prisotnost. Brez urnikov\, brez prehitevanja. Le dobra hrana in prijetna družba. \nBrunch del je bolj odprt\, pridruži se lahko tudi kdo\, ki se joge ne udeleži\, in se skupini priključi kasneje. \n\nMožnosti udeležbe:\n JOGA + BRUNCH\n– 90 minut vodene joge v ajurvedski kliniki \n– majhna skupina (maks. 8 oseb) \n– zavesten prehod v druženje \n– topel brunch v restavraciji Gaudi & Naan \n Cena: 39 € Število mest za jogo je omejeno. \n\n BRUNCH & DRUŽENJE\n– priključek po zaključku joge \n– topel\, sezonski brunch \n– sproščeno druženje v Gaudi & Naan \n Cena: 22 €Brunch del je odprt za več udeležencev. \n\nZakaj se udeležiti?\nKer si na dan ljubezni lahko privoščiš: \n– dopoldne brez hitenja \n– stik s telesom\, brez pritiska \n– hrano\, ki nahrani\, ne obteži \n– občutek\, da si za nekaj trenutkov res tam\, kjer si \nČe čutiš\, da potrebuješ mehko ponastavitev\, je ta dogodek povabilo\, da si jo dovoliš. \nRezerviraj svoje mesto in se nam pridruži 14. februarja.
URL:https://ayurvedska-medicina.si/event/ajurvedski-reset-joga-brunch/
LOCATION:Klinika\, Poljanska 19 1000 Ljubljana\, Poljanska 19\, Ljubljana\, 1000\, Slovenija
ATTACH;FMTTYPE=image/jpeg:https://ayurvedska-medicina.si/wp-content/uploads/2026/01/Pink-and-Yellow-Bold-Brunch-and-Lunch-Instagram-Post-2000-x-1350-px-2.jpg
END:VEVENT
BEGIN:VEVENT
DTSTART;TZID=Europe/Ljubljana:20251001T190000
DTEND;TZID=Europe/Ljubljana:20251001T203000
DTSTAMP:20260420T152840
CREATED:20240807T102433Z
LAST-MODIFIED:20250908T091716Z
UID:13143-1759345200-1759350600@ayurvedska-medicina.si
SUMMARY:Vadba Hatha Yoge od 01.10.2025 naprej!
DESCRIPTION:Tradicionalna hatha joga – nežno\, a učinkovito povezovanje telesa\, duha in uma. \nAsane (telesni položaji) – za gibljivost\, moč in za sproščanje napetosti v telesu. \nPranajama (dihalne tehnike) – za umirjanje uma\, več energije in notranje ravnovesje. \nSproščanje in meditacija – za umik od vsakodnevnega stresa in globlji stik s sabo. \nIndividualni pristop – majhne skupine omogočajo\, da se posvetimo vsakemu posamezniku. \nCelostni pristop – vsak obisk prinaša doživetje\, ki krepi tako telo kot notranji mir\, podprto z ajurvedskim znanjem. \nPri nas joga ni le vadba\, temveč doživetje in potovanje vase – prostor\, kjer najdeš ravnovesje\, mir in novo energijo za vsak dan. \nPodrobnosti dogodka: \n\n\n\n\n\nKdaj? Vsako sredo od 01.10.2025 naprej\nLokacija: Center ALEKSANDRA KOMASZ AYURVEDA\, Poljanska cesta 19\, Ljubljana\nPrijave: Prosimo\, rezervirajte svoj prostor\, saj je število mest omejeno na telefon 031 635 217\n\nPridružite se nam in doživite vadbo v našem centru. \nRezervirajte svoje mesto in poskrbite za svoje dobro počutje! \n\n\n\n\n\n\n\n 
URL:https://ayurvedska-medicina.si/event/joga-z-zavedanjem-travme/
LOCATION:Klinika\, Poljanska 19 1000 Ljubljana\, Poljanska 19\, Ljubljana\, 1000\, Slovenija
ATTACH;FMTTYPE=image/png:https://ayurvedska-medicina.si/wp-content/uploads/2024/08/Joga-z-zavedanjem-travme-e1723022445552.png
END:VEVENT
BEGIN:VEVENT
DTSTART;TZID=Europe/Ljubljana:20251001T190000
DTEND;TZID=Europe/Ljubljana:20251001T190000
DTSTAMP:20260420T152840
CREATED:20240131T145456Z
LAST-MODIFIED:20250908T085213Z
UID:13079-1759345200-1759345200@ayurvedska-medicina.si
SUMMARY:Tradicionalna hatha yoga za začetnike
DESCRIPTION:V našem ayurvedskem centru joga ni le zgolj vadba\, temveč potovanje v modrost harmonije telesa in duha\, ki temelji na starodavni tradiciji stare Indije. Naše seanse so skrbno zasnovane in pripravljene tako\, da združijo fizične asane z pravilnim dihanjem in meditacijo\, tako spodbujajo celostno delovanje telesa in uma ter prinašajo notranji mir. Vsaka ura je prilagojena individualnim potrebam skupine\, upoštevaje tudi ayurvedska načela\, ki zagotavljajo uravnoteženje energij v telesu in umu. Pridružite se nam v mirnem in podpornem okolju\, kjer lahko rastete\, se učite in cvetite skozi prakso joge\, obogatene z modrostjo ayurvede. \nCena ene vadbe: 20 eur \nCena mesečne karte (4 vadbe): 60 eur \n 
URL:https://ayurvedska-medicina.si/event/tradicionalna-hatha-yoga-1-stopnja/
LOCATION:Klinika\, Poljanska 19 1000 Ljubljana\, Poljanska 19\, Ljubljana\, 1000\, Slovenija
ATTACH;FMTTYPE=image/png:https://ayurvedska-medicina.si/wp-content/uploads/2024/01/Yogijski-polozaj.png
END:VEVENT
END:VCALENDAR